BEGIN:VCALENDAR
VERSION:2.0
PRODID:-//eventon.com NONSGML v1.0//EN
BEGIN:VEVENT
UID:69e72e31c7ace
DTSTAMP:20260421T015841
DTSTART:20210904T233000Z
DTEND:20210905T011500Z
TZID:America/Guatemala
LOCATION:
SUMMARY:Sexto Servicio Santa Cena Virtual
DESCRIPTION: Sexto Servicio Santa Cena Virtual\nhttps://ebenezer.org.gt/events/sexto-servicio-santa-cena-virtual/var/event_access
URL:https://ebenezer.org.gt/events/sexto-servicio-santa-cena-virtual/var/event_access
END:VEVENT
END:VCALENDAR